BEGIN:VCALENDAR
VERSION:2.0
PRODID:-//ChamberMaster//Event Calendar 2.0//EN
METHOD:PUBLISH
X-PUBLISHED-TTL:P3D
REFRESH-INTERVAL:P3D
CALSCALE:GREGORIAN
BEGIN:VEVENT
DTSTART:20210511T140000Z
DTEND:20210511T141000Z
X-MICROSOFT-CDO-ALLDAYEVENT:FALSE
SUMMARY:Ambassador of the Month - Cassidy Westover
DESCRIPTION:Ambassador of the Month - May Presentation\n\nCassidy Westover
X-ALT-DESC;FMTTYPE=text/html:Ambassador of the Month - May Presentation<br />\nCassidy Westover
LOCATION:The Eucalyptus Room\, Immediately Following Rise & Shine
UID:e.1216.10305
SEQUENCE:3
DTSTAMP:20260426T005347Z
URL:https://business.gainesvillecofc.com/events/details/ambassador-of-the-month-cassidy-westover-10305
END:VEVENT

END:VCALENDAR
