BEGIN:VCALENDAR
VERSION:2.0
PRODID:-//ChamberMaster//Event Calendar 2.0//EN
METHOD:PUBLISH
X-PUBLISHED-TTL:P3D
REFRESH-INTERVAL:P3D
CALSCALE:GREGORIAN
BEGIN:VEVENT
DTSTART:20271201T180000Z
DTEND:20271201T190000Z
X-MICROSOFT-CDO-ALLDAYEVENT:FALSE
SUMMARY:Ambassador Bi-Monthly Meeting
DESCRIPTION:Bi-Monthly Ambassador Meeting
X-ALT-DESC;FMTTYPE=text/html:Bi-Monthly Ambassador Meeting
LOCATION:Gainesville Civic Center - Meeting Room #1
UID:e.1216.12378
SEQUENCE:3
DTSTAMP:20260423T115349Z
URL:https://business.gainesvillecofc.com/events/details/ambassador-bi-monthly-meeting-12-01-2027-12378
END:VEVENT

END:VCALENDAR
