BEGIN:VCALENDAR
VERSION:2.0
PRODID:-//ChamberMaster//Event Calendar 2.0//EN
METHOD:PUBLISH
X-PUBLISHED-TTL:P3D
REFRESH-INTERVAL:P3D
CALSCALE:GREGORIAN
BEGIN:VEVENT
DTSTART:20240207T180000Z
DTEND:20240207T190000Z
X-MICROSOFT-CDO-ALLDAYEVENT:FALSE
SUMMARY:Ambassador Bi-Monthly Meeting
DESCRIPTION:Bi-Monthly Ambassador Meeting
X-ALT-DESC;FMTTYPE=text/html:Bi-Monthly Ambassador Meeting
LOCATION:Gainesville Civic Center - Meeting Room #1
UID:e.1216.12355
SEQUENCE:3
DTSTAMP:20260423T213553Z
URL:https://business.gainesvillecofc.com/events/details/ambassador-bi-monthly-meeting-02-07-2024-12355
END:VEVENT

END:VCALENDAR
