BEGIN:VCALENDAR
VERSION:2.0
PRODID:-//ChamberMaster//Event Calendar 2.0//EN
METHOD:PUBLISH
X-PUBLISHED-TTL:P3D
REFRESH-INTERVAL:P3D
CALSCALE:GREGORIAN
BEGIN:VEVENT
DTSTART:20300206T180000Z
DTEND:20300206T190000Z
X-MICROSOFT-CDO-ALLDAYEVENT:FALSE
SUMMARY:Ambassador Bi-Monthly Meeting
DESCRIPTION:Bi-Monthly Ambassador Meeting
X-ALT-DESC;FMTTYPE=text/html:Bi-Monthly Ambassador Meeting
LOCATION:Gainesville Civic Center - Meeting Room #1
UID:e.1216.12391
SEQUENCE:3
DTSTAMP:20260425T040015Z
URL:https://business.gainesvillecofc.com/events/details/ambassador-bi-monthly-meeting-02-06-2030-12391
END:VEVENT

END:VCALENDAR
