BEGIN:VCALENDAR
VERSION:2.0
PRODID:-//ChamberMaster//Event Calendar 2.0//EN
METHOD:PUBLISH
X-PUBLISHED-TTL:P3D
REFRESH-INTERVAL:P3D
CALSCALE:GREGORIAN
BEGIN:VEVENT
DTSTART:20250201T000000Z
DTEND:20250201T040000Z
X-MICROSOFT-CDO-ALLDAYEVENT:FALSE
SUMMARY:2025 Annual Meeting and Awards Banquet presented by WinStar World Casino & Resort
DESCRIPTION:This annual event is held during the first quarter of the year and provided dinner for guests while recognizing outstanding Chamber Members for their impact on the community.\n\n\n\n We hope you can be in attendance to help us celebrate.
X-ALT-DESC;FMTTYPE=text/html:This annual event is held during the first quarter of the year and provided dinner for guests while recognizing outstanding Chamber Members for their impact on the community.<br />\n<br />\n&nbsp\;We hope you can be in attendance to help us celebrate.
LOCATION:Gainesville Civic Center 311 S Weaver St Gainesville\, TX 76240
UID:e.1216.12344
SEQUENCE:3
DTSTAMP:20260423T005109Z
URL:https://business.gainesvillecofc.com/events/details/2025-annual-meeting-and-awards-banquet-presented-by-winstar-world-casino-resort-12344
END:VEVENT

END:VCALENDAR
