BEGIN:VCALENDAR
VERSION:2.0
PRODID:-//ChamberMaster//Event Calendar 2.0//EN
METHOD:PUBLISH
X-PUBLISHED-TTL:P3D
REFRESH-INTERVAL:P3D
CALSCALE:GREGORIAN
BEGIN:VEVENT
DTSTART:20250502T160000Z
DTEND:20250502T220000Z
X-MICROSOFT-CDO-ALLDAYEVENT:FALSE
SUMMARY:2025 Annual Golf Tournament Presented by DEF Recycling
DESCRIPTION:2025 Annual Gainesville Area Chamber of Commerce Golf Tournament Presented by DEF Recycling
X-ALT-DESC;FMTTYPE=text/html:2025 Annual Gainesville Area Chamber of Commerce Golf Tournament&nbsp\;Presented by DEF Recycling
LOCATION:
UID:e.1216.12346
SEQUENCE:3
DTSTAMP:20260421T191749Z
URL:https://business.gainesvillecofc.com/events/details/2025-annual-golf-tournament-presented-by-def-recycling-12346
END:VEVENT

END:VCALENDAR
