BEGIN:VCALENDAR
VERSION:2.0
PRODID:-//ChamberMaster//Event Calendar 2.0//EN
METHOD:PUBLISH
X-PUBLISHED-TTL:P3D
REFRESH-INTERVAL:P3D
CALSCALE:GREGORIAN
BEGIN:VEVENT
DTSTART:20230303T000000Z
DTEND:20230303T030000Z
X-MICROSOFT-CDO-ALLDAYEVENT:FALSE
SUMMARY:2023 Annual Meeting and Awards Banquet
DESCRIPTION:This annual event is held during the first quarter of the year and provided dinner and entertainment for guests while recognizing outstanding Chamber Members for their impact on the community.\n\n\n\n We hope you can be in attendance to help us celebrate.
X-ALT-DESC;FMTTYPE=text/html:This annual event is held during the first quarter of the year and provided dinner and entertainment for guests while recognizing outstanding Chamber Members for their impact on the community.<br />\n<br />\n&nbsp\;We hope you can be in attendance to help us celebrate.
LOCATION:North Central Texas College Gym
UID:e.1216.10929
SEQUENCE:3
DTSTAMP:20260424T155506Z
URL:https://business.gainesvillecofc.com/events/details/2023-annual-meeting-and-awards-banquet-10929
END:VEVENT

END:VCALENDAR
