BEGIN:VCALENDAR
VERSION:2.0
PRODID:-//ChamberMaster//Event Calendar 2.0//EN
METHOD:PUBLISH
X-PUBLISHED-TTL:P3D
REFRESH-INTERVAL:P3D
CALSCALE:GREGORIAN
BEGIN:VEVENT
DTSTART:20210721T190000Z
DTEND:20210722T233000Z
X-MICROSOFT-CDO-ALLDAYEVENT:FALSE
SUMMARY:2021 Gainesville Hiring Event
DESCRIPTION:2021 Gainesville Hiring Event\n\nThe Gainesville Economic Development Corporation and the Gainesville Area Chamber of Commerce\, are excited to offer this two day hiring event to the Gainesville Area.
X-ALT-DESC;FMTTYPE=text/html:2021 Gainesville Hiring Event<br />\nThe Gainesville Economic Development Corporation and the Gainesville Area Chamber of Commerce\, are excited to offer this two day hiring event to the Gainesville Area.
LOCATION:Gainesville Civic Center 311 S. Weaver Street Gainesville\, TX 76240
UID:e.1216.10326
SEQUENCE:3
DTSTAMP:20260425T220429Z
URL:https://business.gainesvillecofc.com/events/details/2021-gainesville-hiring-event-10326
END:VEVENT

END:VCALENDAR
