BEGIN:VCALENDAR
VERSION:2.0
PRODID:-//ChamberMaster//Event Calendar 2.0//EN
METHOD:PUBLISH
X-PUBLISHED-TTL:P3D
REFRESH-INTERVAL:P3D
CALSCALE:GREGORIAN
BEGIN:VEVENT
DTSTART:20220304T000000Z
DTEND:20220304T040000Z
X-MICROSOFT-CDO-ALLDAYEVENT:FALSE
SUMMARY:100th Annual Meeting and Awards Banquet
DESCRIPTION:This annual event is held during the first quarter of the year and provided dinner and entertainment for guests while recognizing outstanding Chamber Members for their impact on the community.\n\n\n\nThis will be our 100th Annual Meeting & Awards Banquet! We hope you can be in attendance to help us celebrate.
X-ALT-DESC;FMTTYPE=text/html:This annual event is held during the first quarter of the year and provided dinner and entertainment for guests while recognizing outstanding Chamber Members for their impact on the community.<br />\n<br />\nThis will be our 100th Annual Meeting &amp\; Awards Banquet! We hope you can be in attendance to help us celebrate.
LOCATION:Gainesville Civic Center 311 S. Weaver Street
UID:e.1216.10474
SEQUENCE:3
DTSTAMP:20260425T104831Z
URL:https://business.gainesvillecofc.com/events/details/100th-annual-meeting-and-awards-banquet-10474
END:VEVENT

END:VCALENDAR
